{"text_format":"1","workbook":"xlsx","n_sheets":4,"sheets":["①スケート申し込み一覧（男子）","②個人様式（男子）※入力不要","③リレー様式（男子）","Sheet1"],"not_rendered":{"charts":0,"images":0,"macros":1,"external_links":0,"defined_names":3,"comments":2,"pivot_tables":0},"unopened":[],"bounds":{"document_bytes":16777216,"sheet_cells":100000,"rows_first":2000,"rows_last":500,"rows_between":2000,"halvings":0,"cell_chars":16384,"cell_head_chars":4096},"cells_cut":0,"cells_raw":0,"read":"whole","date_system":"1900"}

{"sheet":"①スケート申し込み一覧（男子）","index":0,"n_rows":43,"n_cols":25,"rows_kept":43,"cut":false,"hidden":false,"merged":[[30,9,30,11],[27,13,30,15],[7,0,7,1],[5,14,5,16],[5,12,5,13],[12,16,13,16],[12,10,12,12],[12,13,12,15],[12,6,13,7],[8,0,8,16],[9,0,9,16],[10,0,10,16],[12,0,13,0],[12,5,13,5],[12,4,13,4],[12,3,13,3],[33,3,33,16],[42,4,42,7],[34,6,34,8],[41,6,41,8],[40,1,40,16],[35,10,35,14],[35,8,35,9],[38,1,38,2],[35,4,35,7],[42,10,42,14],[34,11,34,12],[41,11,41,12],[42,8,42,9],[12,2,13,2],[12,1,13,1],[6,12,6,13],[6,14,6,16],[4,1,4,8],[11,0,11,16],[4,10,4,16],[6,10,6,11],[5,10,5,11],[5,1,5,3],[6,1,6,3],[5,5,5,9],[6,5,6,9],[0,0,0,16],[1,0,1,16],[3,1,3,8],[2,3,2,4],[2,10,2,12],[2,13,2,16],[2,7,2,9],[3,10,3,16],[29,1,31,1],[19,6,19,7],[20,6,20,7],[21,6,21,7],[22,6,22,7],[23,6,23,7],[24,6,24,7],[29,6,29,8],[26,6,26,8],[27,6,27,8],[30,6,30,8],[27,9,27,11],[29,9,29,11],[28,6,28,8],[28,9,28,11],[12,17,13,17],[18,6,18,7],[14,6,14,7],[26,13,26,15],[26,9,26,11],[15,6,15,7],[16,6,16,7],[17,6,17,7]]}
["令　和　２  年　度　北　海　道　中　学　校　体　育　大　会"]
["第５１回北海道中学校スケート大会出場選手申込一覧（スピードスケート競技）"]
["管内",null,"学校名",null,null,null,null,null,null,null,"性別",null,null,"男子",null,null,null,null,"根室",1,"AA",500,"〇","〇","○"]
["学校の","〒",null,null,null,null,null,null,null,"TEL",null,null,null,null,null,null,null,null,"釧路",2,"A",1000,1,"補","×"]
["所在地",null,null,null,null,null,null,null,null,"FAX",null,null,null,null,null,null,null,null,"オホーツク",3,"B",1500,2]
["（フリガナ）",null,null,null,"連絡先",null,null,null,null,null,"（フリガナ）",null,null,null,null,null,null,null,"十勝",null,"C",3000,3]
["監督氏名",null,null,null,"連絡先アドレス",null,null,null,null,null,"コーチ\n氏名",null,null,null,null,null,null,null,"宗谷",null,null,5000,4]
["記入上の注意",null,null,null,null,null,null,null,null,null,null,null,null,null,null,null,null,null,"上川",null,null,null,"補"]
["1、※欄は記入しないこと",null,null,null,null,null,null,null,null,null,null,null,null,null,null,null,null,null,"留萌"]
["２、男子は黒、女子は赤で記入し、男女別の用紙で申し込むこと。",null,null,null,null,null,null,null,null,null,null,null,null,null,null,null,null,null,"空知"]
["３、各距離2名以上申し込む場合は「シ」の欄にシード(1～4）を、1名のみの場合は〇を、補欠は補を記入すること。ただし、第4シードは全種目3名の出場枠が全て埋まった場合とする。",null,null,null,null,null,null,null,null,null,null,null,null,null,null,null,null,null,"日高"]
["４、YouTube Live配信承諾の欄は、承諾の場合は、”○”を記入すること。承諾できない場合は、”×”を記入すること。"]
["※番号","氏名","フリガナ","管内","校名略称\n（5文字以内）","学年","日本スケート連盟登録番号",null,"バッジテスト",null,"種目１",null,null,"種目2",null,null,"2000R","YouTube\n配信承諾","石狩"]
[null,null,null,null,null,null,null,null,"級","番号","距離","シ","公認ベスト記録","距離","シ","公認ベスト記録",null,null,"後志"]
["例","中体連太郎","チュウタイレン　タロウ","十勝","中札内",3,"0107-20190000",null,"B","北1-01",500,"〇","38秒82",1000,2,"S1分21秒33","補","○","胆振"]
[null,null,null,null,null,null,null,null,null,null,null,null,null,null,null,null,null,null,"桧山"]
[null,null,null,null,null,null,null,null,null,null,null,null,null,null,null,null,null,null,"渡島"]
[null,null,null,null,null,null,null,null,null,null,null,null,null,null,null,null,null,null,"札幌"]
[]
[]
[]
[]
[]
[]
[]
[null,null,null,null,null,null,"【参加料記入欄】"]
[null,null,null,null,null,null,null,null,null,"人数(チーム数）",null,null,"金額","合計金額"]
[null,null,null,null,null,null,"1種目出場",null,null,null,null,null,{"$f":"J28*2000","v":0},{"$f":"SUM(M28:M31)","v":0}]
[null,null,null,null,null,null,"2種目出場",null,null,null,null,null,{"$f":"J29*3000","v":0}]
[null,"【参加校記入欄】",null,null,null,null,"リレー出場",null,null,null,null,null,{"$f":"J30*7000","v":0}]
[null,null,null,null,null,null,"滑走料",null,null,null,null,null,{"$f":"J31*1000","v":0}]
[]
[]
[null,"上記の生徒（",null,"）名、第５１回北海道中学校スケート大会に出場することを承認いたします。"]
[null,null,null,null,null,null,"令和2年",null,null,null,"月",null,null,"日"]
[null,null,null,null,null,null,null,null,null,null,null,null,null,null,null,"印"]
[]
[]
[null,"【地区中体連記入欄】"]
[]
[null,"       上記の生徒は、第５１回北海道中学校スケート大会の出場資格を得たことを承認いたします。"]
[null,null,null,null,null,null,"令和2年",null,null,null,"月",null,null,"日"]
[null,null,null,null,null,null,null,null,"中体連会長",null,null,null,null,null,null,"印"]

{"sheet":"②個人様式（男子）※入力不要","index":1,"n_rows":86,"n_cols":53,"rows_kept":86,"cut":false,"hidden":false,"merged":[[28,1,33,2],[28,5,33,7],[28,10,33,11],[12,29,17,30],[0,37,1,52],[6,29,11,30],[34,52,39,52],[34,5,39,7],[12,14,13,26],[6,33,8,39],[9,33,11,39],[28,29,33,30],[34,48,39,50],[6,52,11,52],[12,52,17,52],[31,33,33,39],[4,1,4,26],[2,29,4,52],[28,52,33,52],[12,1,17,2],[12,5,17,7],[12,10,17,11],[28,42,33,45],[28,48,33,50],[85,24,86,35],[34,42,39,45],[50,42,55,45],[50,48,55,50],[50,29,55,30],[63,24,64,35],[72,48,77,50],[53,33,55,39],[56,33,61,39],[58,14,61,26],[48,1,48,26],[50,1,55,2],[50,5,55,7],[50,10,55,11],[50,14,51,26],[52,14,55,26],[41,24,42,35],[34,1,39,2],[34,14,35,26],[34,29,39,30],[36,14,39,26],[44,1,46,17],[56,14,57,26],[56,29,61,30],[74,14,77,26],[78,42,83,45],[66,37,67,52],[68,29,70,52],[78,33,83,39],[75,33,77,39],[78,48,83,50],[78,52,83,52],[72,14,73,26],[80,14,83,26],[78,14,79,26],[78,29,83,30],[72,10,77,11],[72,29,77,30],[72,42,77,45],[72,33,74,39],[12,48,17,50],[22,37,23,52],[6,48,11,50],[6,1,11,2],[6,5,11,7],[6,14,7,26],[6,42,11,45],[12,33,17,39],[14,14,17,26],[46,29,48,52],[56,48,61,50],[56,52,61,52],[34,33,39,39],[50,33,52,39],[56,1,61,2],[56,5,61,7],[44,18,46,21],[44,37,45,52],[50,52,55,52],[72,52,77,52],[78,1,83,2],[78,5,83,7],[78,10,83,11],[28,14,29,26],[30,14,33,26],[56,42,61,45],[34,10,39,11],[28,33,30,39],[0,18,2,21],[0,1,2,17],[22,1,24,17],[22,18,24,21],[6,10,11,11],[8,14,11,26],[72,1,77,2],[24,29,26,52],[26,1,26,26],[12,42,17,45],[19,24,20,35],[56,10,61,11],[70,1,70,26],[66,1,68,17],[66,18,68,21],[72,5,77,7]]}
[null,{"$f":"Sheet1!J16","v":""},null,null,null,null,null,null,null,null,null,null,null,null,null,null,null,null,"M",null,null,null,null,null,null,null,null,null,null,null,null,null,null,null,null,null,null,"12月15日(火）必着"]
[]
[null,null,null,null,null,null,null,null,null,null,null,null,null,null,null,null,null,null,null,null,null,null,null,null,null,null,null,null,null,"\n①男子は黒、女子は全て赤で記入すること。\n②各距離２名以上申し込む場合、シード欄に１、２、３、４、補を記入すること。\n　　１名のみ申込みの場合はシード欄に○印を記入すること。\n"]
[null,"令和2年度　北海道中学校体育大会　第51回北海道中学校スケート大会"]
[null,"スピードスケート競技　個人申込書"]
[]
[null,"※\n記入不要\n番号",null,null,null,"シード\n№",null,null,null,null,"性別",null,null,null,"フリガナ",null,null,null,null,null,null,null,null,null,null,null,null,null,null,"学年",null,null,null,"学校名略称",null,null,null,null,null,null,null,null,"公認ベスト\n記録",null,null,null,null,null,"バッジ\nテスト\n級",null,null,null,"支　庁"]
[]
[null,null,null,null,null,null,null,null,null,null,null,null,null,null,"氏　　　　　名"]
[null,null,null,null,null,null,null,null,null,null,null,null,null,null,null,null,null,null,null,null,null,null,null,null,null,null,null,null,null,null,null,null,null,"(５文字以内)"]
[]
[]
[null,null,null,null,null,{"$f":"IF(Sheet1!K16=\"\",\"\",Sheet1!K16)","v":""},null,null,null,null,"男",null,null,null,{"$f":"IF(Sheet1!C16=\"\",\"\",Sheet1!C16)","v":""},null,null,null,null,null,null,null,null,null,null,null,null,null,null,{"$f":"IF(Sheet1!F16=\"\",\"\",Sheet1!F16)","v":""},null,null,null,{"$f":"IF(Sheet1!E16=\"\",\"\",Sheet1!E16)","v":""},null,null,null,null,null,null,null,null,{"$f":"IF(Sheet1!L16=\"\",\"\",Sheet1!L16)","v":""},null,null,null,null,null,{"$f":"IF(Sheet1!H16=\"\",\"\",Sheet1!H16)","v":""},null,null,null,{"$f":"IF(Sheet1!D16=\"\",\"\",Sheet1!D16)","v":""}]
[]
[null,null,null,null,null,null,null,null,null,null,null,null,null,null,{"$f":"IF(Sheet1!B16=\"\",\"\",Sheet1!B16)","v":""}]
[]
[]
[]
[]
[null,null,null,null,null,null,null,null,null,null,null,null,null,null,null,null,null,null,null,null,null,null,null,null,"キリトリ"]
[]
[]
[null,{"$f":"IF(Sheet1!M16=\"\",\"\",Sheet1!M16)","v":""},null,null,null,null,null,null,null,null,null,null,null,null,null,null,null,null,"M",null,null,null,null,null,null,null,null,null,null,null,null,null,null,null,null,null,null,"12月15日(火）必着"]
[]
[null,null,null,null,null,null,null,null,null,null,null,null,null,null,null,null,null,null,null,null,null,null,null,null,null,null,null,null,null,"\n①男子は黒、女子は全て赤で記入すること。\n②各距離２名以上申し込む場合、シード欄に１、２、３、４、補を記入すること。\n　　１名のみ申込みの場合はシード欄に○印を記入すること。\n"]
[null,"令和2年度　北海道中学校体育大会　第51回北海道中学校スケート大会"]
[null,"スピードスケート競技　個人申込書"]
[]
[null,"※\n記入不要\n番号",null,null,null,"シード\n№",null,null,null,null,"性別",null,null,null,"フリガナ",null,null,null,null,null,null,null,null,null,null,null,null,null,null,"学年",null,null,null,"学校名略称",null,null,null,null,null,null,null,null,"公認ベスト\n記録",null,null,null,null,null,"バッジ\nテスト\n級",null,null,null,"支　庁"]
[]
[null,null,null,null,null,null,null,null,null,null,null,null,null,null,"氏　　　　　名"]
[null,null,null,null,null,null,null,null,null,null,null,null,null,null,null,null,null,null,null,null,null,null,null,null,null,null,null,null,null,null,null,null,null,"(５文字以内)"]
[]
[]
[null,null,null,null,null,{"$f":"IF(Sheet1!N16=\"\",\"\",Sheet1!N16)","v":""},null,null,null,null,"男",null,null,null,{"$f":"IF(B23=\"\",\"\",O13)","v":""},null,null,null,null,null,null,null,null,null,null,null,null,null,null,{"$f":"IF(B23=\"\",\"\",AD13)","v":""},null,null,null,{"$f":"IF(B23=\"\",\"\",AH13)","v":""},null,null,null,null,null,null,null,null,{"$f":"IF(Sheet1!O16=\"\",\"\",Sheet1!O16)","v":""},null,null,null,null,null,{"$f":"IF(B23=\"\",\"\",AW13)","v":""},null,null,null,{"$f":"IF(B23=\"\",\"\",BA13)","v":""}]
[]
[null,null,null,null,null,null,null,null,null,null,null,null,null,null,{"$f":"IF(B23=\"\",\"\",O15)","v":""}]
[]
[]
[]
[]
[null,null,null,null,null,null,null,null,null,null,null,null,null,null,null,null,null,null,null,null,null,null,null,null,"キリトリ"]
[]
[]
[null,{"$f":"IF(Sheet1!J17=\"\",\"\",Sheet1!J17)","v":""},null,null,null,null,null,null,null,null,null,null,null,null,null,null,null,null,"M",null,null,null,null,null,null,null,null,null,null,null,null,null,null,null,null,null,null,"12月15日(火）必着"]
[]
[null,null,null,null,null,null,null,null,null,null,null,null,null,null,null,null,null,null,null,null,null,null,null,null,null,null,null,null,null,"\n①男子は黒、女子は全て赤で記入すること。\n②各距離２名以上申し込む場合、シード欄に１、２、３、４、補を記入すること。\n　　１名のみ申込みの場合はシード欄に○印を記入すること。\n"]
[null,"令和2年度　北海道中学校体育大会　第51回北海道中学校スケート大会"]
[null,"スピードスケート競技　個人申込書"]
[]
[null,"※\n記入不要\n番号",null,null,null,"シード\n№",null,null,null,null,"性別",null,null,null,"フリガナ",null,null,null,null,null,null,null,null,null,null,null,null,null,null,"学年",null,null,null,"学校名略称",null,null,null,null,null,null,null,null,"公認ベスト\n記録",null,null,null,null,null,"バッジ\nテスト\n級",null,null,null,"支　庁"]
[]
[null,null,null,null,null,null,null,null,null,null,null,null,null,null,"氏　　　　　名"]
[null,null,null,null,null,null,null,null,null,null,null,null,null,null,null,null,null,null,null,null,null,null,null,null,null,null,null,null,null,null,null,null,null,"(５文字以内)"]
[]
[]
[null,null,null,null,null,{"$f":"IF(Sheet1!K17=\"\",\"\",Sheet1!K17)","v":""},null,null,null,null,"男",null,null,null,{"$f":"IF(Sheet1!C17=\"\",\"\",Sheet1!C17)","v":""},null,null,null,null,null,null,null,null,null,null,null,null,null,null,{"$f":"IF(Sheet1!F17=\"\",\"\",Sheet1!F17)","v":""},null,null,null,{"$f":"IF(Sheet1!E17=\"\",\"\",Sheet1!E17)","v":""},null,null,null,null,null,null,null,null,{"$f":"IF(Sheet1!L17=\"\",\"\",Sheet1!L17)","v":""},null,null,null,null,null,{"$f":"IF(Sheet1!H17=\"\",\"\",Sheet1!H17)","v":""},null,null,null,{"$f":"IF(Sheet1!D17=\"\",\"\",Sheet1!D17)","v":""}]
[]
[null,null,null,null,null,null,null,null,null,null,null,null,null,null,{"$f":"IF(Sheet1!B17=\"\",\"\",Sheet1!B17)","v":""}]
[]
[]
[]
[]
[null,null,null,null,null,null,null,null,null,null,null,null,null,null,null,null,null,null,null,null,null,null,null,null,"キリトリ"]
[]
[]
[null,{"$f":"IF(Sheet1!M17=\"\",\"\",Sheet1!M17)","v":""},null,null,null,null,null,null,null,null,null,null,null,null,null,null,null,null,"M",null,null,null,null,null,null,null,null,null,null,null,null,null,null,null,null,null,null,"12月15日(火）必着"]
[]
[null,null,null,null,null,null,null,null,null,null,null,null,null,null,null,null,null,null,null,null,null,null,null,null,null,null,null,null,null,"\n①男子は黒、女子は全て赤で記入すること。\n②各距離２名以上申し込む場合、シード欄に１、２、３、４、補を記入すること。\n　　１名のみ申込みの場合はシード欄に○印を記入すること。\n"]
[null,"令和2年度　北海道中学校体育大会　第51回北海道中学校スケート大会"]
[null,"スピードスケート競技　個人申込書"]
[]
[null,"※\n記入不要\n番号",null,null,null,"シード\n№",null,null,null,null,"性別",null,null,null,"フリガナ",null,null,null,null,null,null,null,null,null,null,null,null,null,null,"学年",null,null,null,"学校名略称",null,null,null,null,null,null,null,null,"公認ベスト\n記録",null,null,null,null,null,"バッジ\nテスト\n級",null,null,null,"支　庁"]
[]
[null,null,null,null,null,null,null,null,null,null,null,null,null,null,"氏　　　　　名"]
[null,null,null,null,null,null,null,null,null,null,null,null,null,null,null,null,null,null,null,null,null,null,null,null,null,null,null,null,null,null,null,null,null,"(５文字以内)"]
[]
[]
[null,null,null,null,null,{"$f":"IF(B67=\"\",\"\",Sheet1!N17)","v":""},null,null,null,null,"男",null,null,null,{"$f":"IF(B67=\"\",\"\",O57)","v":""},null,null,null,null,null,null,null,null,null,null,null,null,null,null,{"$f":"IF(B67=\"\",\"\",AD57)","v":""},null,null,null,{"$f":"IF(B67=\"\",\"\",AH57)","v":""},null,null,null,null,null,null,null,null,{"$f":"IF(B67=\"\",\"\",Sheet1!O17)","v":""},null,null,null,null,null,{"$f":"IF(B67=\"\",\"\",AW57)","v":""},null,null,null,{"$f":"IF(B67=\"\",\"\",BA57)","v":""}]
[]
[null,null,null,null,null,null,null,null,null,null,null,null,null,null,{"$f":"IF(B67=\"\",\"\",O59)","v":""}]
[]
[]
[]
[]
[null,null,null,null,null,null,null,null,null,null,null,null,null,null,null,null,null,null,null,null,null,null,null,null,"キリトリ"]

{"sheet":"③リレー様式（男子）","index":2,"n_rows":38,"n_cols":9,"rows_kept":38,"cut":false,"hidden":false,"merged":[[27,1,27,3],[27,4,27,7],[28,1,28,3],[28,4,28,7],[33,1,33,3],[33,4,33,7],[29,1,29,3],[29,4,29,7],[30,1,30,3],[30,4,30,7],[31,1,31,3],[31,4,31,7],[32,1,32,3],[32,4,32,7],[11,4,11,7],[18,3,19,4],[21,0,21,8],[24,4,24,8],[11,1,11,3],[12,1,12,3],[12,4,12,7],[22,0,22,8],[24,0,25,0],[24,1,25,1],[24,2,25,2],[25,4,25,8],[0,0,0,8],[1,0,1,8],[7,1,7,3],[8,1,8,3],[9,1,9,3],[7,4,7,7],[8,4,8,7],[9,4,9,7],[10,4,10,7],[10,1,10,3],[3,0,4,0],[3,1,4,1],[3,2,4,2],[3,4,3,8],[4,4,4,8],[6,1,6,3],[6,4,6,7]]}
["　　　第51回北海道中学校スケート大会"]
["スピードスケート競技　　　2,000ｍリレー申し込み用紙"]
[]
["男女別","男子","学校名","正　式"]
[null,null,null,"略　称"]
[]
["※番号","氏　　　　　　名",null,null,"フ　リ　ガ　ナ",null,null,null,"学　年"]
[]
[]
[]
[]
[]
[]
[]
["【注意事項】","1.男子は黒、女子は赤で記入すること。"]
[null,"2.※欄は記入しないこと。"]
[null,"3.学校名は上段に正式名称(○○立○○中学校等)を記入し、下段に略校名を5文字以内で極力短く記入。"]
[]
[null,null,null,"き　り　と　り"]
[]
[]
["　　　第51回北海道中学校スケート大会"]
["スピードスケート競技　　　2,000ｍリレー申し込み用紙"]
[]
["男女別","男子","学校名","正　式"]
[null,null,null,"略　称"]
[]
["※番号","氏　　　　　　名",null,null,"フ　リ　ガ　ナ",null,null,null,"学　年"]
[]
[]
[]
[]
[]
[]
[]
["【注意事項】","1.男子は黒、女子は赤で記入すること。"]
[null,"2.※欄は記入しないこと。"]
[null,"3.学校名は上段に正式名称(○○立○○中学校等)を記入し、下段に略校名を5文字以内で極力短く記入。"]

{"sheet":"Sheet1","index":3,"n_rows":17,"n_cols":16,"rows_kept":17,"cut":false,"hidden":false,"merged":[[13,7,13,8],[13,9,13,11],[13,12,13,14],[13,15,14,15],[13,5,14,5],[13,6,14,6],[13,0,14,0],[13,1,14,1],[13,2,14,2],[13,3,14,3],[13,4,14,4]]}
[null,2,3,4,5,6,7,8,9,10,11,12,13,14,15,16]
[1,{"$f":"IF('①スケート申し込み一覧（男子）'!B16=\"\",\"\",'①スケート申し込み一覧（男子）'!B16)","v":""},{"$f":"IF('①スケート申し込み一覧（男子）'!C16=\"\",\"\",'①スケート申し込み一覧（男子）'!C16)","v":""},{"$f":"IF('①スケート申し込み一覧（男子）'!D16=\"\",\"\",'①スケート申し込み一覧（男子）'!D16)","v":""},{"$f":"IF('①スケート申し込み一覧（男子）'!E16=\"\",\"\",'①スケート申し込み一覧（男子）'!E16)","v":""},{"$f":"IF('①スケート申し込み一覧（男子）'!F16=\"\",\"\",'①スケート申し込み一覧（男子）'!F16)","v":""},{"$f":"IF('①スケート申し込み一覧（男子）'!G16=\"\",\"\",'①スケート申し込み一覧（男子）'!G16)","v":""},{"$f":"IF('①スケート申し込み一覧（男子）'!I16=\"\",\"\",'①スケート申し込み一覧（男子）'!I16)","v":""},{"$f":"IF('①スケート申し込み一覧（男子）'!J16=\"\",\"\",'①スケート申し込み一覧（男子）'!J16)","v":""},{"$f":"IF('①スケート申し込み一覧（男子）'!K16=\"\",\"\",'①スケート申し込み一覧（男子）'!K16)","v":""},{"$f":"IF('①スケート申し込み一覧（男子）'!L16=\"\",\"\",'①スケート申し込み一覧（男子）'!L16)","v":""},{"$f":"IF('①スケート申し込み一覧（男子）'!M16=\"\",\"\",'①スケート申し込み一覧（男子）'!M16)","v":""},{"$f":"IF('①スケート申し込み一覧（男子）'!N16=\"\",\"\",'①スケート申し込み一覧（男子）'!N16)","v":""},{"$f":"IF('①スケート申し込み一覧（男子）'!O16=\"\",\"\",'①スケート申し込み一覧（男子）'!O16)","v":""},{"$f":"IF('①スケート申し込み一覧（男子）'!P16=\"\",\"\",'①スケート申し込み一覧（男子）'!P16)","v":""},{"$f":"IF('①スケート申し込み一覧（男子）'!Q16=\"\",\"\",'①スケート申し込み一覧（男子）'!Q16)","v":""}]
[2,{"$f":"IF('①スケート申し込み一覧（男子）'!B17=\"\",\"\",'①スケート申し込み一覧（男子）'!B17)","v":""},{"$f":"IF('①スケート申し込み一覧（男子）'!C17=\"\",\"\",'①スケート申し込み一覧（男子）'!C17)","v":""},{"$f":"IF('①スケート申し込み一覧（男子）'!D17=\"\",\"\",'①スケート申し込み一覧（男子）'!D17)","v":""},{"$f":"IF('①スケート申し込み一覧（男子）'!E17=\"\",\"\",'①スケート申し込み一覧（男子）'!E17)","v":""},{"$f":"IF('①スケート申し込み一覧（男子）'!F17=\"\",\"\",'①スケート申し込み一覧（男子）'!F17)","v":""},{"$f":"IF('①スケート申し込み一覧（男子）'!G17=\"\",\"\",'①スケート申し込み一覧（男子）'!G17)","v":""},{"$f":"IF('①スケート申し込み一覧（男子）'!I17=\"\",\"\",'①スケート申し込み一覧（男子）'!I17)","v":""},{"$f":"IF('①スケート申し込み一覧（男子）'!J17=\"\",\"\",'①スケート申し込み一覧（男子）'!J17)","v":""},{"$f":"IF('①スケート申し込み一覧（男子）'!K17=\"\",\"\",'①スケート申し込み一覧（男子）'!K17)","v":""},{"$f":"IF('①スケート申し込み一覧（男子）'!L17=\"\",\"\",'①スケート申し込み一覧（男子）'!L17)","v":""},{"$f":"IF('①スケート申し込み一覧（男子）'!M17=\"\",\"\",'①スケート申し込み一覧（男子）'!M17)","v":""},{"$f":"IF('①スケート申し込み一覧（男子）'!N17=\"\",\"\",'①スケート申し込み一覧（男子）'!N17)","v":""},{"$f":"IF('①スケート申し込み一覧（男子）'!O17=\"\",\"\",'①スケート申し込み一覧（男子）'!O17)","v":""},{"$f":"IF('①スケート申し込み一覧（男子）'!P17=\"\",\"\",'①スケート申し込み一覧（男子）'!P17)","v":""},{"$f":"IF('①スケート申し込み一覧（男子）'!Q17=\"\",\"\",'①スケート申し込み一覧（男子）'!Q17)","v":""}]
[3,{"$f":"IF('①スケート申し込み一覧（男子）'!B18=\"\",\"\",'①スケート申し込み一覧（男子）'!B18)","v":""},{"$f":"IF('①スケート申し込み一覧（男子）'!C18=\"\",\"\",'①スケート申し込み一覧（男子）'!C18)","v":""},{"$f":"IF('①スケート申し込み一覧（男子）'!D18=\"\",\"\",'①スケート申し込み一覧（男子）'!D18)","v":""},{"$f":"IF('①スケート申し込み一覧（男子）'!E18=\"\",\"\",'①スケート申し込み一覧（男子）'!E18)","v":""},{"$f":"IF('①スケート申し込み一覧（男子）'!F18=\"\",\"\",'①スケート申し込み一覧（男子）'!F18)","v":""},{"$f":"IF('①スケート申し込み一覧（男子）'!G18=\"\",\"\",'①スケート申し込み一覧（男子）'!G18)","v":""},{"$f":"IF('①スケート申し込み一覧（男子）'!I18=\"\",\"\",'①スケート申し込み一覧（男子）'!I18)","v":""},{"$f":"IF('①スケート申し込み一覧（男子）'!J18=\"\",\"\",'①スケート申し込み一覧（男子）'!J18)","v":""},{"$f":"IF('①スケート申し込み一覧（男子）'!K18=\"\",\"\",'①スケート申し込み一覧（男子）'!K18)","v":""},{"$f":"IF('①スケート申し込み一覧（男子）'!L18=\"\",\"\",'①スケート申し込み一覧（男子）'!L18)","v":""},{"$f":"IF('①スケート申し込み一覧（男子）'!M18=\"\",\"\",'①スケート申し込み一覧（男子）'!M18)","v":""},{"$f":"IF('①スケート申し込み一覧（男子）'!N18=\"\",\"\",'①スケート申し込み一覧（男子）'!N18)","v":""},{"$f":"IF('①スケート申し込み一覧（男子）'!O18=\"\",\"\",'①スケート申し込み一覧（男子）'!O18)","v":""},{"$f":"IF('①スケート申し込み一覧（男子）'!P18=\"\",\"\",'①スケート申し込み一覧（男子）'!P18)","v":""},{"$f":"IF('①スケート申し込み一覧（男子）'!Q18=\"\",\"\",'①スケート申し込み一覧（男子）'!Q18)","v":""}]
[4,{"$f":"IF('①スケート申し込み一覧（男子）'!B19=\"\",\"\",'①スケート申し込み一覧（男子）'!B19)","v":""},{"$f":"IF('①スケート申し込み一覧（男子）'!C19=\"\",\"\",'①スケート申し込み一覧（男子）'!C19)","v":""},{"$f":"IF('①スケート申し込み一覧（男子）'!D19=\"\",\"\",'①スケート申し込み一覧（男子）'!D19)","v":""},{"$f":"IF('①スケート申し込み一覧（男子）'!E19=\"\",\"\",'①スケート申し込み一覧（男子）'!E19)","v":""},{"$f":"IF('①スケート申し込み一覧（男子）'!F19=\"\",\"\",'①スケート申し込み一覧（男子）'!F19)","v":""},{"$f":"IF('①スケート申し込み一覧（男子）'!G19=\"\",\"\",'①スケート申し込み一覧（男子）'!G19)","v":""},{"$f":"IF('①スケート申し込み一覧（男子）'!I19=\"\",\"\",'①スケート申し込み一覧（男子）'!I19)","v":""},{"$f":"IF('①スケート申し込み一覧（男子）'!J19=\"\",\"\",'①スケート申し込み一覧（男子）'!J19)","v":""},{"$f":"IF('①スケート申し込み一覧（男子）'!K19=\"\",\"\",'①スケート申し込み一覧（男子）'!K19)","v":""},{"$f":"IF('①スケート申し込み一覧（男子）'!L19=\"\",\"\",'①スケート申し込み一覧（男子）'!L19)","v":""},{"$f":"IF('①スケート申し込み一覧（男子）'!M19=\"\",\"\",'①スケート申し込み一覧（男子）'!M19)","v":""},{"$f":"IF('①スケート申し込み一覧（男子）'!N19=\"\",\"\",'①スケート申し込み一覧（男子）'!N19)","v":""},{"$f":"IF('①スケート申し込み一覧（男子）'!O19=\"\",\"\",'①スケート申し込み一覧（男子）'!O19)","v":""},{"$f":"IF('①スケート申し込み一覧（男子）'!P19=\"\",\"\",'①スケート申し込み一覧（男子）'!P19)","v":""},{"$f":"IF('①スケート申し込み一覧（男子）'!Q19=\"\",\"\",'①スケート申し込み一覧（男子）'!Q19)","v":""}]
[5,{"$f":"IF('①スケート申し込み一覧（男子）'!B20=\"\",\"\",'①スケート申し込み一覧（男子）'!B20)","v":""},{"$f":"IF('①スケート申し込み一覧（男子）'!C20=\"\",\"\",'①スケート申し込み一覧（男子）'!C20)","v":""},{"$f":"IF('①スケート申し込み一覧（男子）'!D20=\"\",\"\",'①スケート申し込み一覧（男子）'!D20)","v":""},{"$f":"IF('①スケート申し込み一覧（男子）'!E20=\"\",\"\",'①スケート申し込み一覧（男子）'!E20)","v":""},{"$f":"IF('①スケート申し込み一覧（男子）'!F20=\"\",\"\",'①スケート申し込み一覧（男子）'!F20)","v":""},{"$f":"IF('①スケート申し込み一覧（男子）'!G20=\"\",\"\",'①スケート申し込み一覧（男子）'!G20)","v":""},{"$f":"IF('①スケート申し込み一覧（男子）'!I20=\"\",\"\",'①スケート申し込み一覧（男子）'!I20)","v":""},{"$f":"IF('①スケート申し込み一覧（男子）'!J20=\"\",\"\",'①スケート申し込み一覧（男子）'!J20)","v":""},{"$f":"IF('①スケート申し込み一覧（男子）'!K20=\"\",\"\",'①スケート申し込み一覧（男子）'!K20)","v":""},{"$f":"IF('①スケート申し込み一覧（男子）'!L20=\"\",\"\",'①スケート申し込み一覧（男子）'!L20)","v":""},{"$f":"IF('①スケート申し込み一覧（男子）'!M20=\"\",\"\",'①スケート申し込み一覧（男子）'!M20)","v":""},{"$f":"IF('①スケート申し込み一覧（男子）'!N20=\"\",\"\",'①スケート申し込み一覧（男子）'!N20)","v":""},{"$f":"IF('①スケート申し込み一覧（男子）'!O20=\"\",\"\",'①スケート申し込み一覧（男子）'!O20)","v":""},{"$f":"IF('①スケート申し込み一覧（男子）'!P20=\"\",\"\",'①スケート申し込み一覧（男子）'!P20)","v":""},{"$f":"IF('①スケート申し込み一覧（男子）'!Q20=\"\",\"\",'①スケート申し込み一覧（男子）'!Q20)","v":""}]
[6,{"$f":"IF('①スケート申し込み一覧（男子）'!B21=\"\",\"\",'①スケート申し込み一覧（男子）'!B21)","v":""},{"$f":"IF('①スケート申し込み一覧（男子）'!C21=\"\",\"\",'①スケート申し込み一覧（男子）'!C21)","v":""},{"$f":"IF('①スケート申し込み一覧（男子）'!D21=\"\",\"\",'①スケート申し込み一覧（男子）'!D21)","v":""},{"$f":"IF('①スケート申し込み一覧（男子）'!E21=\"\",\"\",'①スケート申し込み一覧（男子）'!E21)","v":""},{"$f":"IF('①スケート申し込み一覧（男子）'!F21=\"\",\"\",'①スケート申し込み一覧（男子）'!F21)","v":""},{"$f":"IF('①スケート申し込み一覧（男子）'!G21=\"\",\"\",'①スケート申し込み一覧（男子）'!G21)","v":""},{"$f":"IF('①スケート申し込み一覧（男子）'!I21=\"\",\"\",'①スケート申し込み一覧（男子）'!I21)","v":""},{"$f":"IF('①スケート申し込み一覧（男子）'!J21=\"\",\"\",'①スケート申し込み一覧（男子）'!J21)","v":""},{"$f":"IF('①スケート申し込み一覧（男子）'!K21=\"\",\"\",'①スケート申し込み一覧（男子）'!K21)","v":""},{"$f":"IF('①スケート申し込み一覧（男子）'!L21=\"\",\"\",'①スケート申し込み一覧（男子）'!L21)","v":""},{"$f":"IF('①スケート申し込み一覧（男子）'!M21=\"\",\"\",'①スケート申し込み一覧（男子）'!M21)","v":""},{"$f":"IF('①スケート申し込み一覧（男子）'!N21=\"\",\"\",'①スケート申し込み一覧（男子）'!N21)","v":""},{"$f":"IF('①スケート申し込み一覧（男子）'!O21=\"\",\"\",'①スケート申し込み一覧（男子）'!O21)","v":""},{"$f":"IF('①スケート申し込み一覧（男子）'!P21=\"\",\"\",'①スケート申し込み一覧（男子）'!P21)","v":""},{"$f":"IF('①スケート申し込み一覧（男子）'!Q21=\"\",\"\",'①スケート申し込み一覧（男子）'!Q21)","v":""}]
[7,{"$f":"IF('①スケート申し込み一覧（男子）'!B22=\"\",\"\",'①スケート申し込み一覧（男子）'!B22)","v":""},{"$f":"IF('①スケート申し込み一覧（男子）'!C22=\"\",\"\",'①スケート申し込み一覧（男子）'!C22)","v":""},{"$f":"IF('①スケート申し込み一覧（男子）'!D22=\"\",\"\",'①スケート申し込み一覧（男子）'!D22)","v":""},{"$f":"IF('①スケート申し込み一覧（男子）'!E22=\"\",\"\",'①スケート申し込み一覧（男子）'!E22)","v":""},{"$f":"IF('①スケート申し込み一覧（男子）'!F22=\"\",\"\",'①スケート申し込み一覧（男子）'!F22)","v":""},{"$f":"IF('①スケート申し込み一覧（男子）'!G22=\"\",\"\",'①スケート申し込み一覧（男子）'!G22)","v":""},{"$f":"IF('①スケート申し込み一覧（男子）'!I22=\"\",\"\",'①スケート申し込み一覧（男子）'!I22)","v":""},{"$f":"IF('①スケート申し込み一覧（男子）'!J22=\"\",\"\",'①スケート申し込み一覧（男子）'!J22)","v":""},{"$f":"IF('①スケート申し込み一覧（男子）'!K22=\"\",\"\",'①スケート申し込み一覧（男子）'!K22)","v":""},{"$f":"IF('①スケート申し込み一覧（男子）'!L22=\"\",\"\",'①スケート申し込み一覧（男子）'!L22)","v":""},{"$f":"IF('①スケート申し込み一覧（男子）'!M22=\"\",\"\",'①スケート申し込み一覧（男子）'!M22)","v":""},{"$f":"IF('①スケート申し込み一覧（男子）'!N22=\"\",\"\",'①スケート申し込み一覧（男子）'!N22)","v":""},{"$f":"IF('①スケート申し込み一覧（男子）'!O22=\"\",\"\",'①スケート申し込み一覧（男子）'!O22)","v":""},{"$f":"IF('①スケート申し込み一覧（男子）'!P22=\"\",\"\",'①スケート申し込み一覧（男子）'!P22)","v":""},{"$f":"IF('①スケート申し込み一覧（男子）'!Q22=\"\",\"\",'①スケート申し込み一覧（男子）'!Q22)","v":""}]
[8,{"$f":"IF('①スケート申し込み一覧（男子）'!B23=\"\",\"\",'①スケート申し込み一覧（男子）'!B23)","v":""},{"$f":"IF('①スケート申し込み一覧（男子）'!C23=\"\",\"\",'①スケート申し込み一覧（男子）'!C23)","v":""},{"$f":"IF('①スケート申し込み一覧（男子）'!D23=\"\",\"\",'①スケート申し込み一覧（男子）'!D23)","v":""},{"$f":"IF('①スケート申し込み一覧（男子）'!E23=\"\",\"\",'①スケート申し込み一覧（男子）'!E23)","v":""},{"$f":"IF('①スケート申し込み一覧（男子）'!F23=\"\",\"\",'①スケート申し込み一覧（男子）'!F23)","v":""},{"$f":"IF('①スケート申し込み一覧（男子）'!G23=\"\",\"\",'①スケート申し込み一覧（男子）'!G23)","v":""},{"$f":"IF('①スケート申し込み一覧（男子）'!I23=\"\",\"\",'①スケート申し込み一覧（男子）'!I23)","v":""},{"$f":"IF('①スケート申し込み一覧（男子）'!J23=\"\",\"\",'①スケート申し込み一覧（男子）'!J23)","v":""},{"$f":"IF('①スケート申し込み一覧（男子）'!K23=\"\",\"\",'①スケート申し込み一覧（男子）'!K23)","v":""},{"$f":"IF('①スケート申し込み一覧（男子）'!L23=\"\",\"\",'①スケート申し込み一覧（男子）'!L23)","v":""},{"$f":"IF('①スケート申し込み一覧（男子）'!M23=\"\",\"\",'①スケート申し込み一覧（男子）'!M23)","v":""},{"$f":"IF('①スケート申し込み一覧（男子）'!N23=\"\",\"\",'①スケート申し込み一覧（男子）'!N23)","v":""},{"$f":"IF('①スケート申し込み一覧（男子）'!O23=\"\",\"\",'①スケート申し込み一覧（男子）'!O23)","v":""},{"$f":"IF('①スケート申し込み一覧（男子）'!P23=\"\",\"\",'①スケート申し込み一覧（男子）'!P23)","v":""},{"$f":"IF('①スケート申し込み一覧（男子）'!Q23=\"\",\"\",'①スケート申し込み一覧（男子）'!Q23)","v":""}]
[9,{"$f":"IF('①スケート申し込み一覧（男子）'!B24=\"\",\"\",'①スケート申し込み一覧（男子）'!B24)","v":""},{"$f":"IF('①スケート申し込み一覧（男子）'!C24=\"\",\"\",'①スケート申し込み一覧（男子）'!C24)","v":""},{"$f":"IF('①スケート申し込み一覧（男子）'!D24=\"\",\"\",'①スケート申し込み一覧（男子）'!D24)","v":""},{"$f":"IF('①スケート申し込み一覧（男子）'!E24=\"\",\"\",'①スケート申し込み一覧（男子）'!E24)","v":""},{"$f":"IF('①スケート申し込み一覧（男子）'!F24=\"\",\"\",'①スケート申し込み一覧（男子）'!F24)","v":""},{"$f":"IF('①スケート申し込み一覧（男子）'!G24=\"\",\"\",'①スケート申し込み一覧（男子）'!G24)","v":""},{"$f":"IF('①スケート申し込み一覧（男子）'!I24=\"\",\"\",'①スケート申し込み一覧（男子）'!I24)","v":""},{"$f":"IF('①スケート申し込み一覧（男子）'!J24=\"\",\"\",'①スケート申し込み一覧（男子）'!J24)","v":""},{"$f":"IF('①スケート申し込み一覧（男子）'!K24=\"\",\"\",'①スケート申し込み一覧（男子）'!K24)","v":""},{"$f":"IF('①スケート申し込み一覧（男子）'!L24=\"\",\"\",'①スケート申し込み一覧（男子）'!L24)","v":""},{"$f":"IF('①スケート申し込み一覧（男子）'!M24=\"\",\"\",'①スケート申し込み一覧（男子）'!M24)","v":""},{"$f":"IF('①スケート申し込み一覧（男子）'!N24=\"\",\"\",'①スケート申し込み一覧（男子）'!N24)","v":""},{"$f":"IF('①スケート申し込み一覧（男子）'!O24=\"\",\"\",'①スケート申し込み一覧（男子）'!O24)","v":""},{"$f":"IF('①スケート申し込み一覧（男子）'!P24=\"\",\"\",'①スケート申し込み一覧（男子）'!P24)","v":""},{"$f":"IF('①スケート申し込み一覧（男子）'!Q24=\"\",\"\",'①スケート申し込み一覧（男子）'!Q24)","v":""}]
[10,{"$f":"IF('①スケート申し込み一覧（男子）'!B25=\"\",\"\",'①スケート申し込み一覧（男子）'!B25)","v":""},{"$f":"IF('①スケート申し込み一覧（男子）'!C25=\"\",\"\",'①スケート申し込み一覧（男子）'!C25)","v":""},{"$f":"IF('①スケート申し込み一覧（男子）'!D25=\"\",\"\",'①スケート申し込み一覧（男子）'!D25)","v":""},{"$f":"IF('①スケート申し込み一覧（男子）'!E25=\"\",\"\",'①スケート申し込み一覧（男子）'!E25)","v":""},{"$f":"IF('①スケート申し込み一覧（男子）'!F25=\"\",\"\",'①スケート申し込み一覧（男子）'!F25)","v":""},{"$f":"IF('①スケート申し込み一覧（男子）'!G25=\"\",\"\",'①スケート申し込み一覧（男子）'!G25)","v":""},{"$f":"IF('①スケート申し込み一覧（男子）'!I25=\"\",\"\",'①スケート申し込み一覧（男子）'!I25)","v":""},{"$f":"IF('①スケート申し込み一覧（男子）'!J25=\"\",\"\",'①スケート申し込み一覧（男子）'!J25)","v":""},{"$f":"IF('①スケート申し込み一覧（男子）'!K25=\"\",\"\",'①スケート申し込み一覧（男子）'!K25)","v":""},{"$f":"IF('①スケート申し込み一覧（男子）'!L25=\"\",\"\",'①スケート申し込み一覧（男子）'!L25)","v":""},{"$f":"IF('①スケート申し込み一覧（男子）'!M25=\"\",\"\",'①スケート申し込み一覧（男子）'!M25)","v":""},{"$f":"IF('①スケート申し込み一覧（男子）'!N25=\"\",\"\",'①スケート申し込み一覧（男子）'!N25)","v":""},{"$f":"IF('①スケート申し込み一覧（男子）'!O25=\"\",\"\",'①スケート申し込み一覧（男子）'!O25)","v":""},{"$f":"IF('①スケート申し込み一覧（男子）'!P25=\"\",\"\",'①スケート申し込み一覧（男子）'!P25)","v":""},{"$f":"IF('①スケート申し込み一覧（男子）'!Q25=\"\",\"\",'①スケート申し込み一覧（男子）'!Q25)","v":""}]
[]
[1]
[null,"氏名","フリガナ","管内","校名略称\n（5文字以内）","学年","日本スケート連盟登録番号","バッジテスト",null,"種目１",null,null,"種目2",null,null,"2000R"]
[null,null,null,null,null,null,null,"級","番号","距離","シ","公認ベスト記録","距離","シ","公認ベスト記録"]
[{"$f":"A17-1","v":1},{"$f":"VLOOKUP($A16,$A$2:$P$11,B$1,FALSE)","v":""},{"$f":"VLOOKUP($A16,$A$2:$P$11,C$1,FALSE)","v":""},{"$f":"VLOOKUP($A16,$A$2:$P$11,D$1,FALSE)","v":""},"","","","","","","","","","","",""]
[{"$f":"A13*2","v":2},{"$f":"VLOOKUP($A17,$A$2:$P$11,B$1,FALSE)","v":""},"","","","","","","","","","","","","",""]